BEGIN:VCALENDAR
VERSION:2.0
PRODID:-//hacksw/handcal//NONSGML v1.0//EN
BEGIN:VEVENT
SUMMARY:championnat departemental TAE National
UID:bc12fd80-f5d0-42c0-b422-c5897ec25a80
DTSTART:20260607T110000Z
DTEND:20260607T170000Z
LOCATION:Localisation stade 02 pinon
CATEGORIES:Sportif
STATUS:
URL;VALUE=URI:https://www.cdarc02.com/evenements/2026/06/07/championnat-departemental-tae-national-2442719
END:VEVENT
END:VCALENDAR
