BEGIN:VCALENDAR
VERSION:2.0
PRODID:-//hacksw/handcal//NONSGML v1.0//EN
BEGIN:VEVENT
SUMMARY:championnat departemental beursault
UID:5847c16b-a10f-4385-bde7-0603a2c2b184
DTSTART:20260607T060000Z
DTEND:20260607T100000Z
LOCATION:Localisation   
CATEGORIES:Sportif
STATUS:
URL;VALUE=URI:https://www.cdarc02.com/evenements/2026/06/07/championnat-departemental-beursault-2442718
END:VEVENT
END:VCALENDAR
